{"text_format":"1","workbook":"xlsx","n_sheets":6,"sheets":["INSTRUCTIONS","1 - H&S Risk Assessment","2 - Inventory Log","3 - Security Risk Assessment","4 - Software Install Log","Lookup"],"not_rendered":{"charts":0,"images":0,"macros":1,"external_links":0,"defined_names":72,"comments":0,"pivot_tables":0},"unopened":[],"bounds":{"document_bytes":16777216,"sheet_cells":100000,"rows_first":2000,"rows_last":500,"rows_between":2000,"halvings":0,"cell_chars":16384,"cell_head_chars":4096},"cells_cut":0,"cells_raw":0,"read":"whole","date_system":"1900"}

{"sheet":"INSTRUCTIONS","index":0,"n_rows":4,"n_cols":4,"rows_kept":4,"cut":false,"hidden":false,"merged":[[1,0,1,2],[2,0,2,2],[3,0,3,2],[0,0,0,2],[0,3,0,7],[1,3,1,7],[2,3,2,7],[3,3,3,7]]}
["Workbook ID: ",null,null,"DSS-007-01"]
["Student First Name: "]
["Student Surname: "]
["Student ID: "]

{"sheet":"1 - H&S Risk Assessment","index":1,"n_rows":10,"n_cols":7,"rows_kept":10,"cut":false,"hidden":false,"merged":[[0,0,0,6],[1,4,2,6]]}
["Health and Safety Risk Assessment"]
["Company name:      ",null,"Assessment carried out by:      "]
["Date of next review:      ",null,"Date assessment was carried out:      "]
["What are the hazards?","Who might be harmed and how?","What are you already doing to control the risks?","What further action do you need to take to control the risks?","Who needs to carry out the action?","When is the action needed by?","Done"]
["     ","     ","     ","     ","     ","     ","     "]
["     ","     ","     ","     ","     ","     ","     "]
["     ","     ","     ","     ","     ","     ","     "]
["     ","     ","     ","     ","     ","     ","     "]
["     ","     ","     ","     ","     ","     ","     "]
["     ","     ","     ","     ","     ","     ","     "]

{"sheet":"2 - Inventory Log","index":2,"n_rows":124,"n_cols":5,"rows_kept":124,"cut":false,"hidden":false,"merged":[]}
["Device Type","Device Name","IP Assignment Method","IP Address","Notes"]
["Desktop","PC1","DHCP",{"$f":"IF(C2=\"\",\"\",IF(C2=\"DHCP\",\"Auto Assigned\",\"\"))","v":"Auto Assigned"},"Example data, delete this row before completing"]
[null,null,null,{"$f":"IF(C3=\"\",\"\",IF(C3=\"DHCP\",\"Auto Assigned\",\"\"))","v":""}]
[null,null,null,""]
[null,null,null,""]
[null,null,null,""]
[null,null,null,""]
[null,null,null,""]
[null,null,null,""]
[null,null,null,""]
[null,null,null,""]
[null,null,null,""]
[null,null,null,""]
[null,null,null,""]
[null,null,null,""]
[null,null,null,""]
[null,null,null,""]
[null,null,null,""]
[null,null,null,""]
[null,null,null,""]
[null,null,null,""]
[null,null,null,""]
[null,null,null,""]
[null,null,null,""]
[null,null,null,""]
[null,null,null,""]
[null,null,null,""]
[null,null,null,""]
[null,null,null,""]
[null,null,null,""]
[null,null,null,""]
[null,null,null,""]
[null,null,null,""]
[null,null,null,""]
[null,null,null,""]
[null,null,null,""]
[null,null,null,""]
[null,null,null,""]
[null,null,null,""]
[null,null,null,""]
[null,null,null,""]
[null,null,null,""]
[null,null,null,""]
[null,null,null,""]
[null,null,null,""]
[null,null,null,""]
[null,null,null,""]
[null,null,null,""]
[null,null,null,""]
[null,null,null,""]
[null,null,null,""]
[null,null,null,""]
[null,null,null,""]
[null,null,null,""]
[null,null,null,""]
[null,null,null,""]
[null,null,null,""]
[null,null,null,""]
[null,null,null,""]
[null,null,null,""]
[null,null,null,""]
[null,null,null,""]
[null,null,null,""]
[null,null,null,""]
[null,null,null,""]
[null,null,null,""]
[null,null,null,{"$f":"IF(C67=\"\",\"\",IF(C67=\"DHCP\",\"Auto Assigned\",\"\"))","v":""}]
[null,null,null,""]
[null,null,null,""]
[null,null,null,""]
[null,null,null,""]
[null,null,null,""]
[null,null,null,""]
[null,null,null,""]
[null,null,null,""]
[null,null,null,""]
[null,null,null,""]
[null,null,null,""]
[null,null,null,""]
[null,null,null,""]
[null,null,null,""]
[null,null,null,""]
[null,null,null,""]
[null,null,null,""]
[null,null,null,""]
[null,null,null,""]
[null,null,null,""]
[null,null,null,""]
[null,null,null,""]
[null,null,null,""]
[null,null,null,""]
[null,null,null,""]
[null,null,null,""]
[null,null,null,{"$f":"IF(C94=\"\",\"\",IF(C94=\"DHCP\",\"Auto Assigned\",\"\"))","v":""}]
[null,null,null,""]
[null,null,null,""]
[null,null,null,""]
[null,null,null,""]
[null,null,null,""]
[null,null,null,""]
[null,null,null,""]
[null,null,null,""]
[null,null,null,""]
[null,null,null,""]
[null,null,null,""]
[null,null,null,""]
[null,null,null,""]
[null,null,null,""]
[null,null,null,""]
[null,null,null,""]
[null,null,null,""]
[null,null,null,""]
[null,null,null,""]
[null,null,null,""]
[null,null,null,""]
[null,null,null,""]
[null,null,null,""]
[null,null,null,""]
[null,null,null,""]
[null,null,null,""]
[null,null,null,""]
[null,null,null,""]
[null,null,null,""]
[null,null,null,""]

{"sheet":"3 - Security Risk Assessment","index":3,"n_rows":201,"n_cols":12,"rows_kept":201,"cut":false,"hidden":false,"merged":[[0,10,1,10],[0,11,1,11],[0,0,0,2],[0,3,0,6],[0,8,1,8],[0,9,1,9]]}
["RISK REGISTER",null,null,"Risk Rating",null,null,null,null,"Date Raised","Raised By","Owner","Notes"]
["ID","Status","Description","Probability","Impact","Proximity","Rating","Proposed Mitigation Action(s)"]
["R1","Open","EXAMPLE LINE ","Likely","High","< 2 weeks",27,"Delete this line before completing","2026-01-01","JB","JB"]
["R2",null,null,null,null,null,{"$f":"IF(D4=\"\",\"\",(VLOOKUP(D4,Lookup!$E$3:$F$22,2,FALSE)*VLOOKUP(E4,Lookup!$G$3:$H$22,2,FALSE)+VLOOKUP(F4,Lookup!$I$3:$J$22,2,FALSE)))","v":""}]
["R3",null,null,null,null,null,{"$f":"IF(D5=\"\",\"\",(VLOOKUP(D5,Lookup!$E$3:$F$22,2,FALSE)*VLOOKUP(E5,Lookup!$G$3:$H$22,2,FALSE)+VLOOKUP(F5,Lookup!$I$3:$J$22,2,FALSE)))","v":""}]
["R4",null,null,null,null,null,{"$f":"IF(D6=\"\",\"\",(VLOOKUP(D6,Lookup!$E$3:$F$22,2,FALSE)*VLOOKUP(E6,Lookup!$G$3:$H$22,2,FALSE)+VLOOKUP(F6,Lookup!$I$3:$J$22,2,FALSE)))","v":""}]
["R5",null,null,null,null,null,{"$f":"IF(D7=\"\",\"\",(VLOOKUP(D7,Lookup!$E$3:$F$22,2,FALSE)*VLOOKUP(E7,Lookup!$G$3:$H$22,2,FALSE)+VLOOKUP(F7,Lookup!$I$3:$J$22,2,FALSE)))","v":""}]
["R6",null,null,null,null,null,{"$f":"IF(D8=\"\",\"\",(VLOOKUP(D8,Lookup!$E$3:$F$22,2,FALSE)*VLOOKUP(E8,Lookup!$G$3:$H$22,2,FALSE)+VLOOKUP(F8,Lookup!$I$3:$J$22,2,FALSE)))","v":""}]
["R7",null,null,null,null,null,{"$f":"IF(D9=\"\",\"\",(VLOOKUP(D9,Lookup!$E$3:$F$22,2,FALSE)*VLOOKUP(E9,Lookup!$G$3:$H$22,2,FALSE)+VLOOKUP(F9,Lookup!$I$3:$J$22,2,FALSE)))","v":""}]
["R8",null,null,null,null,null,{"$f":"IF(D10=\"\",\"\",(VLOOKUP(D10,Lookup!$E$3:$F$22,2,FALSE)*VLOOKUP(E10,Lookup!$G$3:$H$22,2,FALSE)+VLOOKUP(F10,Lookup!$I$3:$J$22,2,FALSE)))","v":""}]
["R9",null,null,null,null,null,{"$f":"IF(D11=\"\",\"\",(VLOOKUP(D11,Lookup!$E$3:$F$22,2,FALSE)*VLOOKUP(E11,Lookup!$G$3:$H$22,2,FALSE)+VLOOKUP(F11,Lookup!$I$3:$J$22,2,FALSE)))","v":""}]
["R10",null,null,null,null,null,{"$f":"IF(D12=\"\",\"\",(VLOOKUP(D12,Lookup!$E$3:$F$22,2,FALSE)*VLOOKUP(E12,Lookup!$G$3:$H$22,2,FALSE)+VLOOKUP(F12,Lookup!$I$3:$J$22,2,FALSE)))","v":""}]
["R11",null,null,null,null,null,{"$f":"IF(D13=\"\",\"\",(VLOOKUP(D13,Lookup!$E$3:$F$22,2,FALSE)*VLOOKUP(E13,Lookup!$G$3:$H$22,2,FALSE)+VLOOKUP(F13,Lookup!$I$3:$J$22,2,FALSE)))","v":""}]
["R12",null,null,null,null,null,{"$f":"IF(D14=\"\",\"\",(VLOOKUP(D14,Lookup!$E$3:$F$22,2,FALSE)*VLOOKUP(E14,Lookup!$G$3:$H$22,2,FALSE)+VLOOKUP(F14,Lookup!$I$3:$J$22,2,FALSE)))","v":""}]
["R13",null,null,null,null,null,{"$f":"IF(D15=\"\",\"\",(VLOOKUP(D15,Lookup!$E$3:$F$22,2,FALSE)*VLOOKUP(E15,Lookup!$G$3:$H$22,2,FALSE)+VLOOKUP(F15,Lookup!$I$3:$J$22,2,FALSE)))","v":""}]
["R14",null,null,null,null,null,{"$f":"IF(D16=\"\",\"\",(VLOOKUP(D16,Lookup!$E$3:$F$22,2,FALSE)*VLOOKUP(E16,Lookup!$G$3:$H$22,2,FALSE)+VLOOKUP(F16,Lookup!$I$3:$J$22,2,FALSE)))","v":""}]
["R15",null,null,null,null,null,{"$f":"IF(D17=\"\",\"\",(VLOOKUP(D17,Lookup!$E$3:$F$22,2,FALSE)*VLOOKUP(E17,Lookup!$G$3:$H$22,2,FALSE)+VLOOKUP(F17,Lookup!$I$3:$J$22,2,FALSE)))","v":""}]
["R16",null,null,null,null,null,{"$f":"IF(D18=\"\",\"\",(VLOOKUP(D18,Lookup!$E$3:$F$22,2,FALSE)*VLOOKUP(E18,Lookup!$G$3:$H$22,2,FALSE)+VLOOKUP(F18,Lookup!$I$3:$J$22,2,FALSE)))","v":""}]
["R17",null,null,null,null,null,{"$f":"IF(D19=\"\",\"\",(VLOOKUP(D19,Lookup!$E$3:$F$22,2,FALSE)*VLOOKUP(E19,Lookup!$G$3:$H$22,2,FALSE)+VLOOKUP(F19,Lookup!$I$3:$J$22,2,FALSE)))","v":""}]
["R18",null,null,null,null,null,{"$f":"IF(D20=\"\",\"\",(VLOOKUP(D20,Lookup!$E$3:$F$22,2,FALSE)*VLOOKUP(E20,Lookup!$G$3:$H$22,2,FALSE)+VLOOKUP(F20,Lookup!$I$3:$J$22,2,FALSE)))","v":""}]
["R19",null,null,null,null,null,{"$f":"IF(D21=\"\",\"\",(VLOOKUP(D21,Lookup!$E$3:$F$22,2,FALSE)*VLOOKUP(E21,Lookup!$G$3:$H$22,2,FALSE)+VLOOKUP(F21,Lookup!$I$3:$J$22,2,FALSE)))","v":""}]
["R20",null,null,null,null,null,{"$f":"IF(D22=\"\",\"\",(VLOOKUP(D22,Lookup!$E$3:$F$22,2,FALSE)*VLOOKUP(E22,Lookup!$G$3:$H$22,2,FALSE)+VLOOKUP(F22,Lookup!$I$3:$J$22,2,FALSE)))","v":""}]
["R21",null,null,null,null,null,{"$f":"IF(D23=\"\",\"\",(VLOOKUP(D23,Lookup!$E$3:$F$22,2,FALSE)*VLOOKUP(E23,Lookup!$G$3:$H$22,2,FALSE)+VLOOKUP(F23,Lookup!$I$3:$J$22,2,FALSE)))","v":""}]
["R22",null,null,null,null,null,{"$f":"IF(D24=\"\",\"\",(VLOOKUP(D24,Lookup!$E$3:$F$22,2,FALSE)*VLOOKUP(E24,Lookup!$G$3:$H$22,2,FALSE)+VLOOKUP(F24,Lookup!$I$3:$J$22,2,FALSE)))","v":""}]
["R23",null,null,null,null,null,{"$f":"IF(D25=\"\",\"\",(VLOOKUP(D25,Lookup!$E$3:$F$22,2,FALSE)*VLOOKUP(E25,Lookup!$G$3:$H$22,2,FALSE)+VLOOKUP(F25,Lookup!$I$3:$J$22,2,FALSE)))","v":""}]
["R24",null,null,null,null,null,{"$f":"IF(D26=\"\",\"\",(VLOOKUP(D26,Lookup!$E$3:$F$22,2,FALSE)*VLOOKUP(E26,Lookup!$G$3:$H$22,2,FALSE)+VLOOKUP(F26,Lookup!$I$3:$J$22,2,FALSE)))","v":""}]
["R25",null,null,null,null,null,{"$f":"IF(D27=\"\",\"\",(VLOOKUP(D27,Lookup!$E$3:$F$22,2,FALSE)*VLOOKUP(E27,Lookup!$G$3:$H$22,2,FALSE)+VLOOKUP(F27,Lookup!$I$3:$J$22,2,FALSE)))","v":""}]
["R26",null,null,null,null,null,{"$f":"IF(D28=\"\",\"\",(VLOOKUP(D28,Lookup!$E$3:$F$22,2,FALSE)*VLOOKUP(E28,Lookup!$G$3:$H$22,2,FALSE)+VLOOKUP(F28,Lookup!$I$3:$J$22,2,FALSE)))","v":""}]
["R27",null,null,null,null,null,{"$f":"IF(D29=\"\",\"\",(VLOOKUP(D29,Lookup!$E$3:$F$22,2,FALSE)*VLOOKUP(E29,Lookup!$G$3:$H$22,2,FALSE)+VLOOKUP(F29,Lookup!$I$3:$J$22,2,FALSE)))","v":""}]
["R28",null,null,null,null,null,{"$f":"IF(D30=\"\",\"\",(VLOOKUP(D30,Lookup!$E$3:$F$22,2,FALSE)*VLOOKUP(E30,Lookup!$G$3:$H$22,2,FALSE)+VLOOKUP(F30,Lookup!$I$3:$J$22,2,FALSE)))","v":""}]
["R29",null,null,null,null,null,{"$f":"IF(D31=\"\",\"\",(VLOOKUP(D31,Lookup!$E$3:$F$22,2,FALSE)*VLOOKUP(E31,Lookup!$G$3:$H$22,2,FALSE)+VLOOKUP(F31,Lookup!$I$3:$J$22,2,FALSE)))","v":""}]
["R30",null,null,null,null,null,{"$f":"IF(D32=\"\",\"\",(VLOOKUP(D32,Lookup!$E$3:$F$22,2,FALSE)*VLOOKUP(E32,Lookup!$G$3:$H$22,2,FALSE)+VLOOKUP(F32,Lookup!$I$3:$J$22,2,FALSE)))","v":""}]
["R31",null,null,null,null,null,{"$f":"IF(D33=\"\",\"\",(VLOOKUP(D33,Lookup!$E$3:$F$22,2,FALSE)*VLOOKUP(E33,Lookup!$G$3:$H$22,2,FALSE)+VLOOKUP(F33,Lookup!$I$3:$J$22,2,FALSE)))","v":""}]
["R32",null,null,null,null,null,{"$f":"IF(D34=\"\",\"\",(VLOOKUP(D34,Lookup!$E$3:$F$22,2,FALSE)*VLOOKUP(E34,Lookup!$G$3:$H$22,2,FALSE)+VLOOKUP(F34,Lookup!$I$3:$J$22,2,FALSE)))","v":""}]
["R33",null,null,null,null,null,{"$f":"IF(D35=\"\",\"\",(VLOOKUP(D35,Lookup!$E$3:$F$22,2,FALSE)*VLOOKUP(E35,Lookup!$G$3:$H$22,2,FALSE)+VLOOKUP(F35,Lookup!$I$3:$J$22,2,FALSE)))","v":""}]
["R34",null,null,null,null,null,{"$f":"IF(D36=\"\",\"\",(VLOOKUP(D36,Lookup!$E$3:$F$22,2,FALSE)*VLOOKUP(E36,Lookup!$G$3:$H$22,2,FALSE)+VLOOKUP(F36,Lookup!$I$3:$J$22,2,FALSE)))","v":""}]
["R35",null,null,null,null,null,{"$f":"IF(D37=\"\",\"\",(VLOOKUP(D37,Lookup!$E$3:$F$22,2,FALSE)*VLOOKUP(E37,Lookup!$G$3:$H$22,2,FALSE)+VLOOKUP(F37,Lookup!$I$3:$J$22,2,FALSE)))","v":""}]
["R36",null,null,null,null,null,{"$f":"IF(D38=\"\",\"\",(VLOOKUP(D38,Lookup!$E$3:$F$22,2,FALSE)*VLOOKUP(E38,Lookup!$G$3:$H$22,2,FALSE)+VLOOKUP(F38,Lookup!$I$3:$J$22,2,FALSE)))","v":""}]
["R37",null,null,null,null,null,{"$f":"IF(D39=\"\",\"\",(VLOOKUP(D39,Lookup!$E$3:$F$22,2,FALSE)*VLOOKUP(E39,Lookup!$G$3:$H$22,2,FALSE)+VLOOKUP(F39,Lookup!$I$3:$J$22,2,FALSE)))","v":""}]
["R38",null,null,null,null,null,{"$f":"IF(D40=\"\",\"\",(VLOOKUP(D40,Lookup!$E$3:$F$22,2,FALSE)*VLOOKUP(E40,Lookup!$G$3:$H$22,2,FALSE)+VLOOKUP(F40,Lookup!$I$3:$J$22,2,FALSE)))","v":""}]
["R39",null,null,null,null,null,{"$f":"IF(D41=\"\",\"\",(VLOOKUP(D41,Lookup!$E$3:$F$22,2,FALSE)*VLOOKUP(E41,Lookup!$G$3:$H$22,2,FALSE)+VLOOKUP(F41,Lookup!$I$3:$J$22,2,FALSE)))","v":""}]
["R40",null,null,null,null,null,{"$f":"IF(D42=\"\",\"\",(VLOOKUP(D42,Lookup!$E$3:$F$22,2,FALSE)*VLOOKUP(E42,Lookup!$G$3:$H$22,2,FALSE)+VLOOKUP(F42,Lookup!$I$3:$J$22,2,FALSE)))","v":""}]
["R41",null,null,null,null,null,{"$f":"IF(D43=\"\",\"\",(VLOOKUP(D43,Lookup!$E$3:$F$22,2,FALSE)*VLOOKUP(E43,Lookup!$G$3:$H$22,2,FALSE)+VLOOKUP(F43,Lookup!$I$3:$J$22,2,FALSE)))","v":""}]
["R42",null,null,null,null,null,{"$f":"IF(D44=\"\",\"\",(VLOOKUP(D44,Lookup!$E$3:$F$22,2,FALSE)*VLOOKUP(E44,Lookup!$G$3:$H$22,2,FALSE)+VLOOKUP(F44,Lookup!$I$3:$J$22,2,FALSE)))","v":""}]
["R43",null,null,null,null,null,{"$f":"IF(D45=\"\",\"\",(VLOOKUP(D45,Lookup!$E$3:$F$22,2,FALSE)*VLOOKUP(E45,Lookup!$G$3:$H$22,2,FALSE)+VLOOKUP(F45,Lookup!$I$3:$J$22,2,FALSE)))","v":""}]
["R44",null,null,null,null,null,{"$f":"IF(D46=\"\",\"\",(VLOOKUP(D46,Lookup!$E$3:$F$22,2,FALSE)*VLOOKUP(E46,Lookup!$G$3:$H$22,2,FALSE)+VLOOKUP(F46,Lookup!$I$3:$J$22,2,FALSE)))","v":""}]
["R45",null,null,null,null,null,{"$f":"IF(D47=\"\",\"\",(VLOOKUP(D47,Lookup!$E$3:$F$22,2,FALSE)*VLOOKUP(E47,Lookup!$G$3:$H$22,2,FALSE)+VLOOKUP(F47,Lookup!$I$3:$J$22,2,FALSE)))","v":""}]
["R46",null,null,null,null,null,{"$f":"IF(D48=\"\",\"\",(VLOOKUP(D48,Lookup!$E$3:$F$22,2,FALSE)*VLOOKUP(E48,Lookup!$G$3:$H$22,2,FALSE)+VLOOKUP(F48,Lookup!$I$3:$J$22,2,FALSE)))","v":""}]
["R47",null,null,null,null,null,{"$f":"IF(D49=\"\",\"\",(VLOOKUP(D49,Lookup!$E$3:$F$22,2,FALSE)*VLOOKUP(E49,Lookup!$G$3:$H$22,2,FALSE)+VLOOKUP(F49,Lookup!$I$3:$J$22,2,FALSE)))","v":""}]
["R48",null,null,null,null,null,{"$f":"IF(D50=\"\",\"\",(VLOOKUP(D50,Lookup!$E$3:$F$22,2,FALSE)*VLOOKUP(E50,Lookup!$G$3:$H$22,2,FALSE)+VLOOKUP(F50,Lookup!$I$3:$J$22,2,FALSE)))","v":""}]
["R49",null,null,null,null,null,{"$f":"IF(D51=\"\",\"\",(VLOOKUP(D51,Lookup!$E$3:$F$22,2,FALSE)*VLOOKUP(E51,Lookup!$G$3:$H$22,2,FALSE)+VLOOKUP(F51,Lookup!$I$3:$J$22,2,FALSE)))","v":""}]
["R50",null,null,null,null,null,{"$f":"IF(D52=\"\",\"\",(VLOOKUP(D52,Lookup!$E$3:$F$22,2,FALSE)*VLOOKUP(E52,Lookup!$G$3:$H$22,2,FALSE)+VLOOKUP(F52,Lookup!$I$3:$J$22,2,FALSE)))","v":""}]
["R51",null,null,null,null,null,{"$f":"IF(D53=\"\",\"\",(VLOOKUP(D53,Lookup!$E$3:$F$22,2,FALSE)*VLOOKUP(E53,Lookup!$G$3:$H$22,2,FALSE)+VLOOKUP(F53,Lookup!$I$3:$J$22,2,FALSE)))","v":""}]
["R52",null,null,null,null,null,{"$f":"IF(D54=\"\",\"\",(VLOOKUP(D54,Lookup!$E$3:$F$22,2,FALSE)*VLOOKUP(E54,Lookup!$G$3:$H$22,2,FALSE)+VLOOKUP(F54,Lookup!$I$3:$J$22,2,FALSE)))","v":""}]
["R53",null,null,null,null,null,{"$f":"IF(D55=\"\",\"\",(VLOOKUP(D55,Lookup!$E$3:$F$22,2,FALSE)*VLOOKUP(E55,Lookup!$G$3:$H$22,2,FALSE)+VLOOKUP(F55,Lookup!$I$3:$J$22,2,FALSE)))","v":""}]
["R54",null,null,null,null,null,{"$f":"IF(D56=\"\",\"\",(VLOOKUP(D56,Lookup!$E$3:$F$22,2,FALSE)*VLOOKUP(E56,Lookup!$G$3:$H$22,2,FALSE)+VLOOKUP(F56,Lookup!$I$3:$J$22,2,FALSE)))","v":""}]
["R55",null,null,null,null,null,{"$f":"IF(D57=\"\",\"\",(VLOOKUP(D57,Lookup!$E$3:$F$22,2,FALSE)*VLOOKUP(E57,Lookup!$G$3:$H$22,2,FALSE)+VLOOKUP(F57,Lookup!$I$3:$J$22,2,FALSE)))","v":""}]
["R56",null,null,null,null,null,{"$f":"IF(D58=\"\",\"\",(VLOOKUP(D58,Lookup!$E$3:$F$22,2,FALSE)*VLOOKUP(E58,Lookup!$G$3:$H$22,2,FALSE)+VLOOKUP(F58,Lookup!$I$3:$J$22,2,FALSE)))","v":""}]
["R57",null,null,null,null,null,{"$f":"IF(D59=\"\",\"\",(VLOOKUP(D59,Lookup!$E$3:$F$22,2,FALSE)*VLOOKUP(E59,Lookup!$G$3:$H$22,2,FALSE)+VLOOKUP(F59,Lookup!$I$3:$J$22,2,FALSE)))","v":""}]
["R58",null,null,null,null,null,{"$f":"IF(D60=\"\",\"\",(VLOOKUP(D60,Lookup!$E$3:$F$22,2,FALSE)*VLOOKUP(E60,Lookup!$G$3:$H$22,2,FALSE)+VLOOKUP(F60,Lookup!$I$3:$J$22,2,FALSE)))","v":""}]
["R59",null,null,null,null,null,{"$f":"IF(D61=\"\",\"\",(VLOOKUP(D61,Lookup!$E$3:$F$22,2,FALSE)*VLOOKUP(E61,Lookup!$G$3:$H$22,2,FALSE)+VLOOKUP(F61,Lookup!$I$3:$J$22,2,FALSE)))","v":""}]
["R60",null,null,null,null,null,{"$f":"IF(D62=\"\",\"\",(VLOOKUP(D62,Lookup!$E$3:$F$22,2,FALSE)*VLOOKUP(E62,Lookup!$G$3:$H$22,2,FALSE)+VLOOKUP(F62,Lookup!$I$3:$J$22,2,FALSE)))","v":""}]
["R61",null,null,null,null,null,{"$f":"IF(D63=\"\",\"\",(VLOOKUP(D63,Lookup!$E$3:$F$22,2,FALSE)*VLOOKUP(E63,Lookup!$G$3:$H$22,2,FALSE)+VLOOKUP(F63,Lookup!$I$3:$J$22,2,FALSE)))","v":""}]
["R62",null,null,null,null,null,{"$f":"IF(D64=\"\",\"\",(VLOOKUP(D64,Lookup!$E$3:$F$22,2,FALSE)*VLOOKUP(E64,Lookup!$G$3:$H$22,2,FALSE)+VLOOKUP(F64,Lookup!$I$3:$J$22,2,FALSE)))","v":""}]
["R63",null,null,null,null,null,{"$f":"IF(D65=\"\",\"\",(VLOOKUP(D65,Lookup!$E$3:$F$22,2,FALSE)*VLOOKUP(E65,Lookup!$G$3:$H$22,2,FALSE)+VLOOKUP(F65,Lookup!$I$3:$J$22,2,FALSE)))","v":""}]
["R64",null,null,null,null,null,{"$f":"IF(D66=\"\",\"\",(VLOOKUP(D66,Lookup!$E$3:$F$22,2,FALSE)*VLOOKUP(E66,Lookup!$G$3:$H$22,2,FALSE)+VLOOKUP(F66,Lookup!$I$3:$J$22,2,FALSE)))","v":""}]
["R65",null,null,null,null,null,{"$f":"IF(D67=\"\",\"\",(VLOOKUP(D67,Lookup!$E$3:$F$22,2,FALSE)*VLOOKUP(E67,Lookup!$G$3:$H$22,2,FALSE)+VLOOKUP(F67,Lookup!$I$3:$J$22,2,FALSE)))","v":""}]
["R66",null,null,null,null,null,{"$f":"IF(D68=\"\",\"\",(VLOOKUP(D68,Lookup!$E$3:$F$22,2,FALSE)*VLOOKUP(E68,Lookup!$G$3:$H$22,2,FALSE)+VLOOKUP(F68,Lookup!$I$3:$J$22,2,FALSE)))","v":""}]
["R67",null,null,null,null,null,{"$f":"IF(D69=\"\",\"\",(VLOOKUP(D69,Lookup!$E$3:$F$22,2,FALSE)*VLOOKUP(E69,Lookup!$G$3:$H$22,2,FALSE)+VLOOKUP(F69,Lookup!$I$3:$J$22,2,FALSE)))","v":""}]
["R68",null,null,null,null,null,{"$f":"IF(D70=\"\",\"\",(VLOOKUP(D70,Lookup!$E$3:$F$22,2,FALSE)*VLOOKUP(E70,Lookup!$G$3:$H$22,2,FALSE)+VLOOKUP(F70,Lookup!$I$3:$J$22,2,FALSE)))","v":""}]
["R69",null,null,null,null,null,{"$f":"IF(D71=\"\",\"\",(VLOOKUP(D71,Lookup!$E$3:$F$22,2,FALSE)*VLOOKUP(E71,Lookup!$G$3:$H$22,2,FALSE)+VLOOKUP(F71,Lookup!$I$3:$J$22,2,FALSE)))","v":""}]
["R70",null,null,null,null,null,{"$f":"IF(D72=\"\",\"\",(VLOOKUP(D72,Lookup!$E$3:$F$22,2,FALSE)*VLOOKUP(E72,Lookup!$G$3:$H$22,2,FALSE)+VLOOKUP(F72,Lookup!$I$3:$J$22,2,FALSE)))","v":""}]
["R71",null,null,null,null,null,{"$f":"IF(D73=\"\",\"\",(VLOOKUP(D73,Lookup!$E$3:$F$22,2,FALSE)*VLOOKUP(E73,Lookup!$G$3:$H$22,2,FALSE)+VLOOKUP(F73,Lookup!$I$3:$J$22,2,FALSE)))","v":""}]
["R72",null,null,null,null,null,{"$f":"IF(D74=\"\",\"\",(VLOOKUP(D74,Lookup!$E$3:$F$22,2,FALSE)*VLOOKUP(E74,Lookup!$G$3:$H$22,2,FALSE)+VLOOKUP(F74,Lookup!$I$3:$J$22,2,FALSE)))","v":""}]
["R73",null,null,null,null,null,{"$f":"IF(D75=\"\",\"\",(VLOOKUP(D75,Lookup!$E$3:$F$22,2,FALSE)*VLOOKUP(E75,Lookup!$G$3:$H$22,2,FALSE)+VLOOKUP(F75,Lookup!$I$3:$J$22,2,FALSE)))","v":""}]
["R74",null,null,null,null,null,{"$f":"IF(D76=\"\",\"\",(VLOOKUP(D76,Lookup!$E$3:$F$22,2,FALSE)*VLOOKUP(E76,Lookup!$G$3:$H$22,2,FALSE)+VLOOKUP(F76,Lookup!$I$3:$J$22,2,FALSE)))","v":""}]
["R75",null,null,null,null,null,{"$f":"IF(D77=\"\",\"\",(VLOOKUP(D77,Lookup!$E$3:$F$22,2,FALSE)*VLOOKUP(E77,Lookup!$G$3:$H$22,2,FALSE)+VLOOKUP(F77,Lookup!$I$3:$J$22,2,FALSE)))","v":""}]
["R76",null,null,null,null,null,{"$f":"IF(D78=\"\",\"\",(VLOOKUP(D78,Lookup!$E$3:$F$22,2,FALSE)*VLOOKUP(E78,Lookup!$G$3:$H$22,2,FALSE)+VLOOKUP(F78,Lookup!$I$3:$J$22,2,FALSE)))","v":""}]
["R77",null,null,null,null,null,{"$f":"IF(D79=\"\",\"\",(VLOOKUP(D79,Lookup!$E$3:$F$22,2,FALSE)*VLOOKUP(E79,Lookup!$G$3:$H$22,2,FALSE)+VLOOKUP(F79,Lookup!$I$3:$J$22,2,FALSE)))","v":""}]
["R78",null,null,null,null,null,{"$f":"IF(D80=\"\",\"\",(VLOOKUP(D80,Lookup!$E$3:$F$22,2,FALSE)*VLOOKUP(E80,Lookup!$G$3:$H$22,2,FALSE)+VLOOKUP(F80,Lookup!$I$3:$J$22,2,FALSE)))","v":""}]
["R79",null,null,null,null,null,{"$f":"IF(D81=\"\",\"\",(VLOOKUP(D81,Lookup!$E$3:$F$22,2,FALSE)*VLOOKUP(E81,Lookup!$G$3:$H$22,2,FALSE)+VLOOKUP(F81,Lookup!$I$3:$J$22,2,FALSE)))","v":""}]
["R80",null,null,null,null,null,{"$f":"IF(D82=\"\",\"\",(VLOOKUP(D82,Lookup!$E$3:$F$22,2,FALSE)*VLOOKUP(E82,Lookup!$G$3:$H$22,2,FALSE)+VLOOKUP(F82,Lookup!$I$3:$J$22,2,FALSE)))","v":""}]
["R81",null,null,null,null,null,{"$f":"IF(D83=\"\",\"\",(VLOOKUP(D83,Lookup!$E$3:$F$22,2,FALSE)*VLOOKUP(E83,Lookup!$G$3:$H$22,2,FALSE)+VLOOKUP(F83,Lookup!$I$3:$J$22,2,FALSE)))","v":""}]
["R82",null,null,null,null,null,{"$f":"IF(D84=\"\",\"\",(VLOOKUP(D84,Lookup!$E$3:$F$22,2,FALSE)*VLOOKUP(E84,Lookup!$G$3:$H$22,2,FALSE)+VLOOKUP(F84,Lookup!$I$3:$J$22,2,FALSE)))","v":""}]
["R83",null,null,null,null,null,{"$f":"IF(D85=\"\",\"\",(VLOOKUP(D85,Lookup!$E$3:$F$22,2,FALSE)*VLOOKUP(E85,Lookup!$G$3:$H$22,2,FALSE)+VLOOKUP(F85,Lookup!$I$3:$J$22,2,FALSE)))","v":""}]
["R84",null,null,null,null,null,{"$f":"IF(D86=\"\",\"\",(VLOOKUP(D86,Lookup!$E$3:$F$22,2,FALSE)*VLOOKUP(E86,Lookup!$G$3:$H$22,2,FALSE)+VLOOKUP(F86,Lookup!$I$3:$J$22,2,FALSE)))","v":""}]
["R85",null,null,null,null,null,{"$f":"IF(D87=\"\",\"\",(VLOOKUP(D87,Lookup!$E$3:$F$22,2,FALSE)*VLOOKUP(E87,Lookup!$G$3:$H$22,2,FALSE)+VLOOKUP(F87,Lookup!$I$3:$J$22,2,FALSE)))","v":""}]
["R86",null,null,null,null,null,{"$f":"IF(D88=\"\",\"\",(VLOOKUP(D88,Lookup!$E$3:$F$22,2,FALSE)*VLOOKUP(E88,Lookup!$G$3:$H$22,2,FALSE)+VLOOKUP(F88,Lookup!$I$3:$J$22,2,FALSE)))","v":""}]
["R87",null,null,null,null,null,{"$f":"IF(D89=\"\",\"\",(VLOOKUP(D89,Lookup!$E$3:$F$22,2,FALSE)*VLOOKUP(E89,Lookup!$G$3:$H$22,2,FALSE)+VLOOKUP(F89,Lookup!$I$3:$J$22,2,FALSE)))","v":""}]
["R88",null,null,null,null,null,{"$f":"IF(D90=\"\",\"\",(VLOOKUP(D90,Lookup!$E$3:$F$22,2,FALSE)*VLOOKUP(E90,Lookup!$G$3:$H$22,2,FALSE)+VLOOKUP(F90,Lookup!$I$3:$J$22,2,FALSE)))","v":""}]
["R89",null,null,null,null,null,{"$f":"IF(D91=\"\",\"\",(VLOOKUP(D91,Lookup!$E$3:$F$22,2,FALSE)*VLOOKUP(E91,Lookup!$G$3:$H$22,2,FALSE)+VLOOKUP(F91,Lookup!$I$3:$J$22,2,FALSE)))","v":""}]
["R90",null,null,null,null,null,{"$f":"IF(D92=\"\",\"\",(VLOOKUP(D92,Lookup!$E$3:$F$22,2,FALSE)*VLOOKUP(E92,Lookup!$G$3:$H$22,2,FALSE)+VLOOKUP(F92,Lookup!$I$3:$J$22,2,FALSE)))","v":""}]
["R91",null,null,null,null,null,{"$f":"IF(D93=\"\",\"\",(VLOOKUP(D93,Lookup!$E$3:$F$22,2,FALSE)*VLOOKUP(E93,Lookup!$G$3:$H$22,2,FALSE)+VLOOKUP(F93,Lookup!$I$3:$J$22,2,FALSE)))","v":""}]
["R92",null,null,null,null,null,{"$f":"IF(D94=\"\",\"\",(VLOOKUP(D94,Lookup!$E$3:$F$22,2,FALSE)*VLOOKUP(E94,Lookup!$G$3:$H$22,2,FALSE)+VLOOKUP(F94,Lookup!$I$3:$J$22,2,FALSE)))","v":""}]
["R93",null,null,null,null,null,{"$f":"IF(D95=\"\",\"\",(VLOOKUP(D95,Lookup!$E$3:$F$22,2,FALSE)*VLOOKUP(E95,Lookup!$G$3:$H$22,2,FALSE)+VLOOKUP(F95,Lookup!$I$3:$J$22,2,FALSE)))","v":""}]
["R94",null,null,null,null,null,{"$f":"IF(D96=\"\",\"\",(VLOOKUP(D96,Lookup!$E$3:$F$22,2,FALSE)*VLOOKUP(E96,Lookup!$G$3:$H$22,2,FALSE)+VLOOKUP(F96,Lookup!$I$3:$J$22,2,FALSE)))","v":""}]
["R95",null,null,null,null,null,{"$f":"IF(D97=\"\",\"\",(VLOOKUP(D97,Lookup!$E$3:$F$22,2,FALSE)*VLOOKUP(E97,Lookup!$G$3:$H$22,2,FALSE)+VLOOKUP(F97,Lookup!$I$3:$J$22,2,FALSE)))","v":""}]
["R96",null,null,null,null,null,{"$f":"IF(D98=\"\",\"\",(VLOOKUP(D98,Lookup!$E$3:$F$22,2,FALSE)*VLOOKUP(E98,Lookup!$G$3:$H$22,2,FALSE)+VLOOKUP(F98,Lookup!$I$3:$J$22,2,FALSE)))","v":""}]
["R97",null,null,null,null,null,{"$f":"IF(D99=\"\",\"\",(VLOOKUP(D99,Lookup!$E$3:$F$22,2,FALSE)*VLOOKUP(E99,Lookup!$G$3:$H$22,2,FALSE)+VLOOKUP(F99,Lookup!$I$3:$J$22,2,FALSE)))","v":""}]
["R98",null,null,null,null,null,{"$f":"IF(D100=\"\",\"\",(VLOOKUP(D100,Lookup!$E$3:$F$22,2,FALSE)*VLOOKUP(E100,Lookup!$G$3:$H$22,2,FALSE)+VLOOKUP(F100,Lookup!$I$3:$J$22,2,FALSE)))","v":""}]
["R99",null,null,null,null,null,{"$f":"IF(D101=\"\",\"\",(VLOOKUP(D101,Lookup!$E$3:$F$22,2,FALSE)*VLOOKUP(E101,Lookup!$G$3:$H$22,2,FALSE)+VLOOKUP(F101,Lookup!$I$3:$J$22,2,FALSE)))","v":""}]
["R100",null,null,null,null,null,{"$f":"IF(D102=\"\",\"\",(VLOOKUP(D102,Lookup!$E$3:$F$22,2,FALSE)*VLOOKUP(E102,Lookup!$G$3:$H$22,2,FALSE)+VLOOKUP(F102,Lookup!$I$3:$J$22,2,FALSE)))","v":""}]
["R101",null,null,null,null,null,{"$f":"IF(D103=\"\",\"\",(VLOOKUP(D103,Lookup!$E$3:$F$22,2,FALSE)*VLOOKUP(E103,Lookup!$G$3:$H$22,2,FALSE)+VLOOKUP(F103,Lookup!$I$3:$J$22,2,FALSE)))","v":""}]
["R102",null,null,null,null,null,{"$f":"IF(D104=\"\",\"\",(VLOOKUP(D104,Lookup!$E$3:$F$22,2,FALSE)*VLOOKUP(E104,Lookup!$G$3:$H$22,2,FALSE)+VLOOKUP(F104,Lookup!$I$3:$J$22,2,FALSE)))","v":""}]
["R103",null,null,null,null,null,{"$f":"IF(D105=\"\",\"\",(VLOOKUP(D105,Lookup!$E$3:$F$22,2,FALSE)*VLOOKUP(E105,Lookup!$G$3:$H$22,2,FALSE)+VLOOKUP(F105,Lookup!$I$3:$J$22,2,FALSE)))","v":""}]
["R104",null,null,null,null,null,{"$f":"IF(D106=\"\",\"\",(VLOOKUP(D106,Lookup!$E$3:$F$22,2,FALSE)*VLOOKUP(E106,Lookup!$G$3:$H$22,2,FALSE)+VLOOKUP(F106,Lookup!$I$3:$J$22,2,FALSE)))","v":""}]
["R105",null,null,null,null,null,{"$f":"IF(D107=\"\",\"\",(VLOOKUP(D107,Lookup!$E$3:$F$22,2,FALSE)*VLOOKUP(E107,Lookup!$G$3:$H$22,2,FALSE)+VLOOKUP(F107,Lookup!$I$3:$J$22,2,FALSE)))","v":""}]
["R106",null,null,null,null,null,{"$f":"IF(D108=\"\",\"\",(VLOOKUP(D108,Lookup!$E$3:$F$22,2,FALSE)*VLOOKUP(E108,Lookup!$G$3:$H$22,2,FALSE)+VLOOKUP(F108,Lookup!$I$3:$J$22,2,FALSE)))","v":""}]
["R107",null,null,null,null,null,{"$f":"IF(D109=\"\",\"\",(VLOOKUP(D109,Lookup!$E$3:$F$22,2,FALSE)*VLOOKUP(E109,Lookup!$G$3:$H$22,2,FALSE)+VLOOKUP(F109,Lookup!$I$3:$J$22,2,FALSE)))","v":""}]
["R108",null,null,null,null,null,{"$f":"IF(D110=\"\",\"\",(VLOOKUP(D110,Lookup!$E$3:$F$22,2,FALSE)*VLOOKUP(E110,Lookup!$G$3:$H$22,2,FALSE)+VLOOKUP(F110,Lookup!$I$3:$J$22,2,FALSE)))","v":""}]
["R109",null,null,null,null,null,{"$f":"IF(D111=\"\",\"\",(VLOOKUP(D111,Lookup!$E$3:$F$22,2,FALSE)*VLOOKUP(E111,Lookup!$G$3:$H$22,2,FALSE)+VLOOKUP(F111,Lookup!$I$3:$J$22,2,FALSE)))","v":""}]
["R110",null,null,null,null,null,{"$f":"IF(D112=\"\",\"\",(VLOOKUP(D112,Lookup!$E$3:$F$22,2,FALSE)*VLOOKUP(E112,Lookup!$G$3:$H$22,2,FALSE)+VLOOKUP(F112,Lookup!$I$3:$J$22,2,FALSE)))","v":""}]
["R111",null,null,null,null,null,{"$f":"IF(D113=\"\",\"\",(VLOOKUP(D113,Lookup!$E$3:$F$22,2,FALSE)*VLOOKUP(E113,Lookup!$G$3:$H$22,2,FALSE)+VLOOKUP(F113,Lookup!$I$3:$J$22,2,FALSE)))","v":""}]
["R112",null,null,null,null,null,{"$f":"IF(D114=\"\",\"\",(VLOOKUP(D114,Lookup!$E$3:$F$22,2,FALSE)*VLOOKUP(E114,Lookup!$G$3:$H$22,2,FALSE)+VLOOKUP(F114,Lookup!$I$3:$J$22,2,FALSE)))","v":""}]
["R113",null,null,null,null,null,{"$f":"IF(D115=\"\",\"\",(VLOOKUP(D115,Lookup!$E$3:$F$22,2,FALSE)*VLOOKUP(E115,Lookup!$G$3:$H$22,2,FALSE)+VLOOKUP(F115,Lookup!$I$3:$J$22,2,FALSE)))","v":""}]
["R114",null,null,null,null,null,{"$f":"IF(D116=\"\",\"\",(VLOOKUP(D116,Lookup!$E$3:$F$22,2,FALSE)*VLOOKUP(E116,Lookup!$G$3:$H$22,2,FALSE)+VLOOKUP(F116,Lookup!$I$3:$J$22,2,FALSE)))","v":""}]
["R115",null,null,null,null,null,{"$f":"IF(D117=\"\",\"\",(VLOOKUP(D117,Lookup!$E$3:$F$22,2,FALSE)*VLOOKUP(E117,Lookup!$G$3:$H$22,2,FALSE)+VLOOKUP(F117,Lookup!$I$3:$J$22,2,FALSE)))","v":""}]
["R116",null,null,null,null,null,{"$f":"IF(D118=\"\",\"\",(VLOOKUP(D118,Lookup!$E$3:$F$22,2,FALSE)*VLOOKUP(E118,Lookup!$G$3:$H$22,2,FALSE)+VLOOKUP(F118,Lookup!$I$3:$J$22,2,FALSE)))","v":""}]
["R117",null,null,null,null,null,{"$f":"IF(D119=\"\",\"\",(VLOOKUP(D119,Lookup!$E$3:$F$22,2,FALSE)*VLOOKUP(E119,Lookup!$G$3:$H$22,2,FALSE)+VLOOKUP(F119,Lookup!$I$3:$J$22,2,FALSE)))","v":""}]
["R118",null,null,null,null,null,{"$f":"IF(D120=\"\",\"\",(VLOOKUP(D120,Lookup!$E$3:$F$22,2,FALSE)*VLOOKUP(E120,Lookup!$G$3:$H$22,2,FALSE)+VLOOKUP(F120,Lookup!$I$3:$J$22,2,FALSE)))","v":""}]
["R119",null,null,null,null,null,{"$f":"IF(D121=\"\",\"\",(VLOOKUP(D121,Lookup!$E$3:$F$22,2,FALSE)*VLOOKUP(E121,Lookup!$G$3:$H$22,2,FALSE)+VLOOKUP(F121,Lookup!$I$3:$J$22,2,FALSE)))","v":""}]
["R120",null,null,null,null,null,{"$f":"IF(D122=\"\",\"\",(VLOOKUP(D122,Lookup!$E$3:$F$22,2,FALSE)*VLOOKUP(E122,Lookup!$G$3:$H$22,2,FALSE)+VLOOKUP(F122,Lookup!$I$3:$J$22,2,FALSE)))","v":""}]
["R121",null,null,null,null,null,{"$f":"IF(D123=\"\",\"\",(VLOOKUP(D123,Lookup!$E$3:$F$22,2,FALSE)*VLOOKUP(E123,Lookup!$G$3:$H$22,2,FALSE)+VLOOKUP(F123,Lookup!$I$3:$J$22,2,FALSE)))","v":""}]
["R122",null,null,null,null,null,{"$f":"IF(D124=\"\",\"\",(VLOOKUP(D124,Lookup!$E$3:$F$22,2,FALSE)*VLOOKUP(E124,Lookup!$G$3:$H$22,2,FALSE)+VLOOKUP(F124,Lookup!$I$3:$J$22,2,FALSE)))","v":""}]
["R123",null,null,null,null,null,{"$f":"IF(D125=\"\",\"\",(VLOOKUP(D125,Lookup!$E$3:$F$22,2,FALSE)*VLOOKUP(E125,Lookup!$G$3:$H$22,2,FALSE)+VLOOKUP(F125,Lookup!$I$3:$J$22,2,FALSE)))","v":""}]
["R124",null,null,null,null,null,{"$f":"IF(D126=\"\",\"\",(VLOOKUP(D126,Lookup!$E$3:$F$22,2,FALSE)*VLOOKUP(E126,Lookup!$G$3:$H$22,2,FALSE)+VLOOKUP(F126,Lookup!$I$3:$J$22,2,FALSE)))","v":""}]
["R125",null,null,null,null,null,{"$f":"IF(D127=\"\",\"\",(VLOOKUP(D127,Lookup!$E$3:$F$22,2,FALSE)*VLOOKUP(E127,Lookup!$G$3:$H$22,2,FALSE)+VLOOKUP(F127,Lookup!$I$3:$J$22,2,FALSE)))","v":""}]
["R126",null,null,null,null,null,{"$f":"IF(D128=\"\",\"\",(VLOOKUP(D128,Lookup!$E$3:$F$22,2,FALSE)*VLOOKUP(E128,Lookup!$G$3:$H$22,2,FALSE)+VLOOKUP(F128,Lookup!$I$3:$J$22,2,FALSE)))","v":""}]
["R127",null,null,null,null,null,{"$f":"IF(D129=\"\",\"\",(VLOOKUP(D129,Lookup!$E$3:$F$22,2,FALSE)*VLOOKUP(E129,Lookup!$G$3:$H$22,2,FALSE)+VLOOKUP(F129,Lookup!$I$3:$J$22,2,FALSE)))","v":""}]
["R128",null,null,null,null,null,{"$f":"IF(D130=\"\",\"\",(VLOOKUP(D130,Lookup!$E$3:$F$22,2,FALSE)*VLOOKUP(E130,Lookup!$G$3:$H$22,2,FALSE)+VLOOKUP(F130,Lookup!$I$3:$J$22,2,FALSE)))","v":""}]
["R129",null,null,null,null,null,{"$f":"IF(D131=\"\",\"\",(VLOOKUP(D131,Lookup!$E$3:$F$22,2,FALSE)*VLOOKUP(E131,Lookup!$G$3:$H$22,2,FALSE)+VLOOKUP(F131,Lookup!$I$3:$J$22,2,FALSE)))","v":""}]
["R130",null,null,null,null,null,{"$f":"IF(D132=\"\",\"\",(VLOOKUP(D132,Lookup!$E$3:$F$22,2,FALSE)*VLOOKUP(E132,Lookup!$G$3:$H$22,2,FALSE)+VLOOKUP(F132,Lookup!$I$3:$J$22,2,FALSE)))","v":""}]
["R131",null,null,null,null,null,{"$f":"IF(D133=\"\",\"\",(VLOOKUP(D133,Lookup!$E$3:$F$22,2,FALSE)*VLOOKUP(E133,Lookup!$G$3:$H$22,2,FALSE)+VLOOKUP(F133,Lookup!$I$3:$J$22,2,FALSE)))","v":""}]
["R132",null,null,null,null,null,{"$f":"IF(D134=\"\",\"\",(VLOOKUP(D134,Lookup!$E$3:$F$22,2,FALSE)*VLOOKUP(E134,Lookup!$G$3:$H$22,2,FALSE)+VLOOKUP(F134,Lookup!$I$3:$J$22,2,FALSE)))","v":""}]
["R133",null,null,null,null,null,{"$f":"IF(D135=\"\",\"\",(VLOOKUP(D135,Lookup!$E$3:$F$22,2,FALSE)*VLOOKUP(E135,Lookup!$G$3:$H$22,2,FALSE)+VLOOKUP(F135,Lookup!$I$3:$J$22,2,FALSE)))","v":""}]
["R134",null,null,null,null,null,{"$f":"IF(D136=\"\",\"\",(VLOOKUP(D136,Lookup!$E$3:$F$22,2,FALSE)*VLOOKUP(E136,Lookup!$G$3:$H$22,2,FALSE)+VLOOKUP(F136,Lookup!$I$3:$J$22,2,FALSE)))","v":""}]
["R135",null,null,null,null,null,{"$f":"IF(D137=\"\",\"\",(VLOOKUP(D137,Lookup!$E$3:$F$22,2,FALSE)*VLOOKUP(E137,Lookup!$G$3:$H$22,2,FALSE)+VLOOKUP(F137,Lookup!$I$3:$J$22,2,FALSE)))","v":""}]
["R136",null,null,null,null,null,{"$f":"IF(D138=\"\",\"\",(VLOOKUP(D138,Lookup!$E$3:$F$22,2,FALSE)*VLOOKUP(E138,Lookup!$G$3:$H$22,2,FALSE)+VLOOKUP(F138,Lookup!$I$3:$J$22,2,FALSE)))","v":""}]
["R137",null,null,null,null,null,{"$f":"IF(D139=\"\",\"\",(VLOOKUP(D139,Lookup!$E$3:$F$22,2,FALSE)*VLOOKUP(E139,Lookup!$G$3:$H$22,2,FALSE)+VLOOKUP(F139,Lookup!$I$3:$J$22,2,FALSE)))","v":""}]
["R138",null,null,null,null,null,{"$f":"IF(D140=\"\",\"\",(VLOOKUP(D140,Lookup!$E$3:$F$22,2,FALSE)*VLOOKUP(E140,Lookup!$G$3:$H$22,2,FALSE)+VLOOKUP(F140,Lookup!$I$3:$J$22,2,FALSE)))","v":""}]
["R139",null,null,null,null,null,{"$f":"IF(D141=\"\",\"\",(VLOOKUP(D141,Lookup!$E$3:$F$22,2,FALSE)*VLOOKUP(E141,Lookup!$G$3:$H$22,2,FALSE)+VLOOKUP(F141,Lookup!$I$3:$J$22,2,FALSE)))","v":""}]
["R140",null,null,null,null,null,{"$f":"IF(D142=\"\",\"\",(VLOOKUP(D142,Lookup!$E$3:$F$22,2,FALSE)*VLOOKUP(E142,Lookup!$G$3:$H$22,2,FALSE)+VLOOKUP(F142,Lookup!$I$3:$J$22,2,FALSE)))","v":""}]
["R141",null,null,null,null,null,{"$f":"IF(D143=\"\",\"\",(VLOOKUP(D143,Lookup!$E$3:$F$22,2,FALSE)*VLOOKUP(E143,Lookup!$G$3:$H$22,2,FALSE)+VLOOKUP(F143,Lookup!$I$3:$J$22,2,FALSE)))","v":""}]
["R142",null,null,null,null,null,{"$f":"IF(D144=\"\",\"\",(VLOOKUP(D144,Lookup!$E$3:$F$22,2,FALSE)*VLOOKUP(E144,Lookup!$G$3:$H$22,2,FALSE)+VLOOKUP(F144,Lookup!$I$3:$J$22,2,FALSE)))","v":""}]
["R143",null,null,null,null,null,{"$f":"IF(D145=\"\",\"\",(VLOOKUP(D145,Lookup!$E$3:$F$22,2,FALSE)*VLOOKUP(E145,Lookup!$G$3:$H$22,2,FALSE)+VLOOKUP(F145,Lookup!$I$3:$J$22,2,FALSE)))","v":""}]
["R144",null,null,null,null,null,{"$f":"IF(D146=\"\",\"\",(VLOOKUP(D146,Lookup!$E$3:$F$22,2,FALSE)*VLOOKUP(E146,Lookup!$G$3:$H$22,2,FALSE)+VLOOKUP(F146,Lookup!$I$3:$J$22,2,FALSE)))","v":""}]
["R145",null,null,null,null,null,{"$f":"IF(D147=\"\",\"\",(VLOOKUP(D147,Lookup!$E$3:$F$22,2,FALSE)*VLOOKUP(E147,Lookup!$G$3:$H$22,2,FALSE)+VLOOKUP(F147,Lookup!$I$3:$J$22,2,FALSE)))","v":""}]
["R146",null,null,null,null,null,{"$f":"IF(D148=\"\",\"\",(VLOOKUP(D148,Lookup!$E$3:$F$22,2,FALSE)*VLOOKUP(E148,Lookup!$G$3:$H$22,2,FALSE)+VLOOKUP(F148,Lookup!$I$3:$J$22,2,FALSE)))","v":""}]
["R147",null,null,null,null,null,{"$f":"IF(D149=\"\",\"\",(VLOOKUP(D149,Lookup!$E$3:$F$22,2,FALSE)*VLOOKUP(E149,Lookup!$G$3:$H$22,2,FALSE)+VLOOKUP(F149,Lookup!$I$3:$J$22,2,FALSE)))","v":""}]
["R148",null,null,null,null,null,{"$f":"IF(D150=\"\",\"\",(VLOOKUP(D150,Lookup!$E$3:$F$22,2,FALSE)*VLOOKUP(E150,Lookup!$G$3:$H$22,2,FALSE)+VLOOKUP(F150,Lookup!$I$3:$J$22,2,FALSE)))","v":""}]
["R149",null,null,null,null,null,{"$f":"IF(D151=\"\",\"\",(VLOOKUP(D151,Lookup!$E$3:$F$22,2,FALSE)*VLOOKUP(E151,Lookup!$G$3:$H$22,2,FALSE)+VLOOKUP(F151,Lookup!$I$3:$J$22,2,FALSE)))","v":""}]
["R150",null,null,null,null,null,{"$f":"IF(D152=\"\",\"\",(VLOOKUP(D152,Lookup!$E$3:$F$22,2,FALSE)*VLOOKUP(E152,Lookup!$G$3:$H$22,2,FALSE)+VLOOKUP(F152,Lookup!$I$3:$J$22,2,FALSE)))","v":""}]
["R151",null,null,null,null,null,{"$f":"IF(D153=\"\",\"\",(VLOOKUP(D153,Lookup!$E$3:$F$22,2,FALSE)*VLOOKUP(E153,Lookup!$G$3:$H$22,2,FALSE)+VLOOKUP(F153,Lookup!$I$3:$J$22,2,FALSE)))","v":""}]
["R152",null,null,null,null,null,{"$f":"IF(D154=\"\",\"\",(VLOOKUP(D154,Lookup!$E$3:$F$22,2,FALSE)*VLOOKUP(E154,Lookup!$G$3:$H$22,2,FALSE)+VLOOKUP(F154,Lookup!$I$3:$J$22,2,FALSE)))","v":""}]
["R153",null,null,null,null,null,{"$f":"IF(D155=\"\",\"\",(VLOOKUP(D155,Lookup!$E$3:$F$22,2,FALSE)*VLOOKUP(E155,Lookup!$G$3:$H$22,2,FALSE)+VLOOKUP(F155,Lookup!$I$3:$J$22,2,FALSE)))","v":""}]
["R154",null,null,null,null,null,{"$f":"IF(D156=\"\",\"\",(VLOOKUP(D156,Lookup!$E$3:$F$22,2,FALSE)*VLOOKUP(E156,Lookup!$G$3:$H$22,2,FALSE)+VLOOKUP(F156,Lookup!$I$3:$J$22,2,FALSE)))","v":""}]
["R155",null,null,null,null,null,{"$f":"IF(D157=\"\",\"\",(VLOOKUP(D157,Lookup!$E$3:$F$22,2,FALSE)*VLOOKUP(E157,Lookup!$G$3:$H$22,2,FALSE)+VLOOKUP(F157,Lookup!$I$3:$J$22,2,FALSE)))","v":""}]
["R156",null,null,null,null,null,{"$f":"IF(D158=\"\",\"\",(VLOOKUP(D158,Lookup!$E$3:$F$22,2,FALSE)*VLOOKUP(E158,Lookup!$G$3:$H$22,2,FALSE)+VLOOKUP(F158,Lookup!$I$3:$J$22,2,FALSE)))","v":""}]
["R157",null,null,null,null,null,{"$f":"IF(D159=\"\",\"\",(VLOOKUP(D159,Lookup!$E$3:$F$22,2,FALSE)*VLOOKUP(E159,Lookup!$G$3:$H$22,2,FALSE)+VLOOKUP(F159,Lookup!$I$3:$J$22,2,FALSE)))","v":""}]
["R158",null,null,null,null,null,{"$f":"IF(D160=\"\",\"\",(VLOOKUP(D160,Lookup!$E$3:$F$22,2,FALSE)*VLOOKUP(E160,Lookup!$G$3:$H$22,2,FALSE)+VLOOKUP(F160,Lookup!$I$3:$J$22,2,FALSE)))","v":""}]
["R159",null,null,null,null,null,{"$f":"IF(D161=\"\",\"\",(VLOOKUP(D161,Lookup!$E$3:$F$22,2,FALSE)*VLOOKUP(E161,Lookup!$G$3:$H$22,2,FALSE)+VLOOKUP(F161,Lookup!$I$3:$J$22,2,FALSE)))","v":""}]
["R160",null,null,null,null,null,{"$f":"IF(D162=\"\",\"\",(VLOOKUP(D162,Lookup!$E$3:$F$22,2,FALSE)*VLOOKUP(E162,Lookup!$G$3:$H$22,2,FALSE)+VLOOKUP(F162,Lookup!$I$3:$J$22,2,FALSE)))","v":""}]
["R161",null,null,null,null,null,{"$f":"IF(D163=\"\",\"\",(VLOOKUP(D163,Lookup!$E$3:$F$22,2,FALSE)*VLOOKUP(E163,Lookup!$G$3:$H$22,2,FALSE)+VLOOKUP(F163,Lookup!$I$3:$J$22,2,FALSE)))","v":""}]
["R162",null,null,null,null,null,{"$f":"IF(D164=\"\",\"\",(VLOOKUP(D164,Lookup!$E$3:$F$22,2,FALSE)*VLOOKUP(E164,Lookup!$G$3:$H$22,2,FALSE)+VLOOKUP(F164,Lookup!$I$3:$J$22,2,FALSE)))","v":""}]
["R163",null,null,null,null,null,{"$f":"IF(D165=\"\",\"\",(VLOOKUP(D165,Lookup!$E$3:$F$22,2,FALSE)*VLOOKUP(E165,Lookup!$G$3:$H$22,2,FALSE)+VLOOKUP(F165,Lookup!$I$3:$J$22,2,FALSE)))","v":""}]
["R164",null,null,null,null,null,{"$f":"IF(D166=\"\",\"\",(VLOOKUP(D166,Lookup!$E$3:$F$22,2,FALSE)*VLOOKUP(E166,Lookup!$G$3:$H$22,2,FALSE)+VLOOKUP(F166,Lookup!$I$3:$J$22,2,FALSE)))","v":""}]
["R165",null,null,null,null,null,{"$f":"IF(D167=\"\",\"\",(VLOOKUP(D167,Lookup!$E$3:$F$22,2,FALSE)*VLOOKUP(E167,Lookup!$G$3:$H$22,2,FALSE)+VLOOKUP(F167,Lookup!$I$3:$J$22,2,FALSE)))","v":""}]
["R166",null,null,null,null,null,{"$f":"IF(D168=\"\",\"\",(VLOOKUP(D168,Lookup!$E$3:$F$22,2,FALSE)*VLOOKUP(E168,Lookup!$G$3:$H$22,2,FALSE)+VLOOKUP(F168,Lookup!$I$3:$J$22,2,FALSE)))","v":""}]
["R167",null,null,null,null,null,{"$f":"IF(D169=\"\",\"\",(VLOOKUP(D169,Lookup!$E$3:$F$22,2,FALSE)*VLOOKUP(E169,Lookup!$G$3:$H$22,2,FALSE)+VLOOKUP(F169,Lookup!$I$3:$J$22,2,FALSE)))","v":""}]
["R168",null,null,null,null,null,{"$f":"IF(D170=\"\",\"\",(VLOOKUP(D170,Lookup!$E$3:$F$22,2,FALSE)*VLOOKUP(E170,Lookup!$G$3:$H$22,2,FALSE)+VLOOKUP(F170,Lookup!$I$3:$J$22,2,FALSE)))","v":""}]
["R169",null,null,null,null,null,{"$f":"IF(D171=\"\",\"\",(VLOOKUP(D171,Lookup!$E$3:$F$22,2,FALSE)*VLOOKUP(E171,Lookup!$G$3:$H$22,2,FALSE)+VLOOKUP(F171,Lookup!$I$3:$J$22,2,FALSE)))","v":""}]
["R170",null,null,null,null,null,{"$f":"IF(D172=\"\",\"\",(VLOOKUP(D172,Lookup!$E$3:$F$22,2,FALSE)*VLOOKUP(E172,Lookup!$G$3:$H$22,2,FALSE)+VLOOKUP(F172,Lookup!$I$3:$J$22,2,FALSE)))","v":""}]
["R171",null,null,null,null,null,{"$f":"IF(D173=\"\",\"\",(VLOOKUP(D173,Lookup!$E$3:$F$22,2,FALSE)*VLOOKUP(E173,Lookup!$G$3:$H$22,2,FALSE)+VLOOKUP(F173,Lookup!$I$3:$J$22,2,FALSE)))","v":""}]
["R172",null,null,null,null,null,{"$f":"IF(D174=\"\",\"\",(VLOOKUP(D174,Lookup!$E$3:$F$22,2,FALSE)*VLOOKUP(E174,Lookup!$G$3:$H$22,2,FALSE)+VLOOKUP(F174,Lookup!$I$3:$J$22,2,FALSE)))","v":""}]
["R173",null,null,null,null,null,{"$f":"IF(D175=\"\",\"\",(VLOOKUP(D175,Lookup!$E$3:$F$22,2,FALSE)*VLOOKUP(E175,Lookup!$G$3:$H$22,2,FALSE)+VLOOKUP(F175,Lookup!$I$3:$J$22,2,FALSE)))","v":""}]
["R174",null,null,null,null,null,{"$f":"IF(D176=\"\",\"\",(VLOOKUP(D176,Lookup!$E$3:$F$22,2,FALSE)*VLOOKUP(E176,Lookup!$G$3:$H$22,2,FALSE)+VLOOKUP(F176,Lookup!$I$3:$J$22,2,FALSE)))","v":""}]
["R175",null,null,null,null,null,{"$f":"IF(D177=\"\",\"\",(VLOOKUP(D177,Lookup!$E$3:$F$22,2,FALSE)*VLOOKUP(E177,Lookup!$G$3:$H$22,2,FALSE)+VLOOKUP(F177,Lookup!$I$3:$J$22,2,FALSE)))","v":""}]
["R176",null,null,null,null,null,{"$f":"IF(D178=\"\",\"\",(VLOOKUP(D178,Lookup!$E$3:$F$22,2,FALSE)*VLOOKUP(E178,Lookup!$G$3:$H$22,2,FALSE)+VLOOKUP(F178,Lookup!$I$3:$J$22,2,FALSE)))","v":""}]
["R177",null,null,null,null,null,{"$f":"IF(D179=\"\",\"\",(VLOOKUP(D179,Lookup!$E$3:$F$22,2,FALSE)*VLOOKUP(E179,Lookup!$G$3:$H$22,2,FALSE)+VLOOKUP(F179,Lookup!$I$3:$J$22,2,FALSE)))","v":""}]
["R178",null,null,null,null,null,{"$f":"IF(D180=\"\",\"\",(VLOOKUP(D180,Lookup!$E$3:$F$22,2,FALSE)*VLOOKUP(E180,Lookup!$G$3:$H$22,2,FALSE)+VLOOKUP(F180,Lookup!$I$3:$J$22,2,FALSE)))","v":""}]
["R179",null,null,null,null,null,{"$f":"IF(D181=\"\",\"\",(VLOOKUP(D181,Lookup!$E$3:$F$22,2,FALSE)*VLOOKUP(E181,Lookup!$G$3:$H$22,2,FALSE)+VLOOKUP(F181,Lookup!$I$3:$J$22,2,FALSE)))","v":""}]
["R180",null,null,null,null,null,{"$f":"IF(D182=\"\",\"\",(VLOOKUP(D182,Lookup!$E$3:$F$22,2,FALSE)*VLOOKUP(E182,Lookup!$G$3:$H$22,2,FALSE)+VLOOKUP(F182,Lookup!$I$3:$J$22,2,FALSE)))","v":""}]
["R181",null,null,null,null,null,{"$f":"IF(D183=\"\",\"\",(VLOOKUP(D183,Lookup!$E$3:$F$22,2,FALSE)*VLOOKUP(E183,Lookup!$G$3:$H$22,2,FALSE)+VLOOKUP(F183,Lookup!$I$3:$J$22,2,FALSE)))","v":""}]
["R182",null,null,null,null,null,{"$f":"IF(D184=\"\",\"\",(VLOOKUP(D184,Lookup!$E$3:$F$22,2,FALSE)*VLOOKUP(E184,Lookup!$G$3:$H$22,2,FALSE)+VLOOKUP(F184,Lookup!$I$3:$J$22,2,FALSE)))","v":""}]
["R183",null,null,null,null,null,{"$f":"IF(D185=\"\",\"\",(VLOOKUP(D185,Lookup!$E$3:$F$22,2,FALSE)*VLOOKUP(E185,Lookup!$G$3:$H$22,2,FALSE)+VLOOKUP(F185,Lookup!$I$3:$J$22,2,FALSE)))","v":""}]
["R184",null,null,null,null,null,{"$f":"IF(D186=\"\",\"\",(VLOOKUP(D186,Lookup!$E$3:$F$22,2,FALSE)*VLOOKUP(E186,Lookup!$G$3:$H$22,2,FALSE)+VLOOKUP(F186,Lookup!$I$3:$J$22,2,FALSE)))","v":""}]
["R185",null,null,null,null,null,{"$f":"IF(D187=\"\",\"\",(VLOOKUP(D187,Lookup!$E$3:$F$22,2,FALSE)*VLOOKUP(E187,Lookup!$G$3:$H$22,2,FALSE)+VLOOKUP(F187,Lookup!$I$3:$J$22,2,FALSE)))","v":""}]
["R186",null,null,null,null,null,{"$f":"IF(D188=\"\",\"\",(VLOOKUP(D188,Lookup!$E$3:$F$22,2,FALSE)*VLOOKUP(E188,Lookup!$G$3:$H$22,2,FALSE)+VLOOKUP(F188,Lookup!$I$3:$J$22,2,FALSE)))","v":""}]
["R187",null,null,null,null,null,{"$f":"IF(D189=\"\",\"\",(VLOOKUP(D189,Lookup!$E$3:$F$22,2,FALSE)*VLOOKUP(E189,Lookup!$G$3:$H$22,2,FALSE)+VLOOKUP(F189,Lookup!$I$3:$J$22,2,FALSE)))","v":""}]
["R188",null,null,null,null,null,{"$f":"IF(D190=\"\",\"\",(VLOOKUP(D190,Lookup!$E$3:$F$22,2,FALSE)*VLOOKUP(E190,Lookup!$G$3:$H$22,2,FALSE)+VLOOKUP(F190,Lookup!$I$3:$J$22,2,FALSE)))","v":""}]
["R189",null,null,null,null,null,{"$f":"IF(D191=\"\",\"\",(VLOOKUP(D191,Lookup!$E$3:$F$22,2,FALSE)*VLOOKUP(E191,Lookup!$G$3:$H$22,2,FALSE)+VLOOKUP(F191,Lookup!$I$3:$J$22,2,FALSE)))","v":""}]
["R190",null,null,null,null,null,{"$f":"IF(D192=\"\",\"\",(VLOOKUP(D192,Lookup!$E$3:$F$22,2,FALSE)*VLOOKUP(E192,Lookup!$G$3:$H$22,2,FALSE)+VLOOKUP(F192,Lookup!$I$3:$J$22,2,FALSE)))","v":""}]
["R191",null,null,null,null,null,{"$f":"IF(D193=\"\",\"\",(VLOOKUP(D193,Lookup!$E$3:$F$22,2,FALSE)*VLOOKUP(E193,Lookup!$G$3:$H$22,2,FALSE)+VLOOKUP(F193,Lookup!$I$3:$J$22,2,FALSE)))","v":""}]
["R192",null,null,null,null,null,{"$f":"IF(D194=\"\",\"\",(VLOOKUP(D194,Lookup!$E$3:$F$22,2,FALSE)*VLOOKUP(E194,Lookup!$G$3:$H$22,2,FALSE)+VLOOKUP(F194,Lookup!$I$3:$J$22,2,FALSE)))","v":""}]
["R193",null,null,null,null,null,{"$f":"IF(D195=\"\",\"\",(VLOOKUP(D195,Lookup!$E$3:$F$22,2,FALSE)*VLOOKUP(E195,Lookup!$G$3:$H$22,2,FALSE)+VLOOKUP(F195,Lookup!$I$3:$J$22,2,FALSE)))","v":""}]
["R194",null,null,null,null,null,{"$f":"IF(D196=\"\",\"\",(VLOOKUP(D196,Lookup!$E$3:$F$22,2,FALSE)*VLOOKUP(E196,Lookup!$G$3:$H$22,2,FALSE)+VLOOKUP(F196,Lookup!$I$3:$J$22,2,FALSE)))","v":""}]
["R195",null,null,null,null,null,{"$f":"IF(D197=\"\",\"\",(VLOOKUP(D197,Lookup!$E$3:$F$22,2,FALSE)*VLOOKUP(E197,Lookup!$G$3:$H$22,2,FALSE)+VLOOKUP(F197,Lookup!$I$3:$J$22,2,FALSE)))","v":""}]
["R196",null,null,null,null,null,{"$f":"IF(D198=\"\",\"\",(VLOOKUP(D198,Lookup!$E$3:$F$22,2,FALSE)*VLOOKUP(E198,Lookup!$G$3:$H$22,2,FALSE)+VLOOKUP(F198,Lookup!$I$3:$J$22,2,FALSE)))","v":""}]
["R197",null,null,null,null,null,{"$f":"IF(D199=\"\",\"\",(VLOOKUP(D199,Lookup!$E$3:$F$22,2,FALSE)*VLOOKUP(E199,Lookup!$G$3:$H$22,2,FALSE)+VLOOKUP(F199,Lookup!$I$3:$J$22,2,FALSE)))","v":""}]
["R198",null,null,null,null,null,{"$f":"IF(D200=\"\",\"\",(VLOOKUP(D200,Lookup!$E$3:$F$22,2,FALSE)*VLOOKUP(E200,Lookup!$G$3:$H$22,2,FALSE)+VLOOKUP(F200,Lookup!$I$3:$J$22,2,FALSE)))","v":""}]
["R199",null,null,null,null,null,{"$f":"IF(D201=\"\",\"\",(VLOOKUP(D201,Lookup!$E$3:$F$22,2,FALSE)*VLOOKUP(E201,Lookup!$G$3:$H$22,2,FALSE)+VLOOKUP(F201,Lookup!$I$3:$J$22,2,FALSE)))","v":""}]

{"sheet":"4 - Software Install Log","index":4,"n_rows":6,"n_cols":19,"rows_kept":6,"cut":false,"hidden":false,"merged":[[5,0,5,1],[4,0,4,1],[2,0,2,1],[3,0,3,1],[5,7,5,8],[4,7,4,8],[4,9,4,12],[5,9,5,12],[4,14,4,15],[5,14,5,15],[0,3,0,5],[2,2,2,5],[3,2,3,5],[4,2,4,5],[5,2,5,5],[0,10,0,12],[2,7,2,8],[2,9,2,12],[3,7,3,8],[3,9,3,12],[5,16,5,19],[0,17,0,19],[2,14,2,15],[2,16,2,19],[3,14,3,15],[3,16,3,19],[4,16,4,19]]}
["Device ID: ",null,"Location:",null,null,null,null,"Device ID: ",null,"Location:",null,null,null,null,"Device ID: ",null,"Location:"]
["Installed date:",null,"Installed by:",null,"Install type:",null,null,"Installed date:",null,"Installed by:",null,"Install type:",null,null,"Installed date:",null,"Installed by:",null,"Install type:"]
["Software/drivers installed",null,null,null,null,null,null,"Software/drivers installed",null,null,null,null,null,null,"Software/drivers installed"]
["Installation notes",null,null,null,null,null,null,"Installation notes",null,null,null,null,null,null,"Installation notes"]
["Vulnerabilities notes",null,null,null,null,null,null,"Vulnerabilities notes",null,null,null,null,null,null,"Vulnerabilities notes"]
["Recommended actions",null,null,null,null,null,null,"Recommended actions",null,null,null,null,null,null,"Recommended actions"]

{"sheet":"Lookup","index":5,"n_rows":23,"n_cols":21,"rows_kept":23,"cut":false,"hidden":true,"merged":[[2,0,21,0]]}
["ID","Lookup1","Lookup2","Lookup3","Lookup4","Lookup5","Lookup6","Lookup7","Lookup8","Lookup9","Lookup10","Lookup11","Lookup12","Lookup13","Lookup14","Lookup15","Lookup16","Lookup17","Lookup18","Lookup19","Lookup20"]
["Name","Yes/No","Type","IP Address Assignment","Probability","Probability Rating","Impact ","Impact Rating","Proximity","Proximity Rating","Action Status","Lookup11","Lookup12","Lookup13","Lookup14","Lookup15","Lookup16","Lookup17","Lookup18","Lookup19","Lookup20"]
["ELEMENTS","Yes/No","Server","DHCP","Probable",5,"Catastrophic",5,"Immediate",8,"Open","Lookup11","Lookup12","Lookup13","Lookup14","Lookup15","Lookup16","Lookup17","Lookup18","Lookup19","Lookup20"]
[null,"No","SAN","Manual","Likely",4,"High",4,"< 2 weeks",7,"Closed"]
[null,"N/A","Desktop",null,"Possible",3,"Medium",3,"<= 1 Month",6]
[null,null,"Laptop",null,"Unlikely",2,"Low",2,"<= 2 Months",5]
[null,null,"Smartphone",null,"Negligible",1,"Negligible",1,"<= 3 Months",4]
[null,null,"Tablet",null,null,null,null,null,"<= 4 Months",3]
[null,null,"Network Switch",null,null,null,null,null,"<= 5 Months",2]
[null,null,null,null,null,null,null,null,">= 6 Months",1]
[]
[]
[]
[]
[]
[]
[]
[]
[]
[]
[]
[]
["TEST"]